BEGIN:VCALENDAR
VERSION:2.0
PRODID:-//Terrinha.pt - ECPv6.15.16//NONSGML v1.0//EN
CALSCALE:GREGORIAN
METHOD:PUBLISH
X-ORIGINAL-URL:https://terrinha.pt
X-WR-CALDESC:Eventos para Terrinha.pt
REFRESH-INTERVAL;VALUE=DURATION:PT1H
X-Robots-Tag:noindex
X-PUBLISHED-TTL:PT1H
BEGIN:VTIMEZONE
TZID:UTC
BEGIN:STANDARD
TZOFFSETFROM:+0000
TZOFFSETTO:+0000
TZNAME:UTC
DTSTART:20250101T000000
END:STANDARD
END:VTIMEZONE
BEGIN:VEVENT
DTSTART;VALUE=DATE:20260320
DTEND;VALUE=DATE:20260323
DTSTAMP:20260419T170308
CREATED:20260219T213454Z
LAST-MODIFIED:20260219T213528Z
UID:117-1773964800-1774223999@terrinha.pt
SUMMARY:Feira do Porco Alentejano
DESCRIPTION:SITE OFICIAL:\nhttp://www.cm-ourique.pt/pt/menu/696/feira-do-porco-alentejano-2026.asp \nA 18.ª edição da Feira do Porco Alentejano realiza-se nos dias 20\, 21 e 22 de março de 2026\, em Ourique. Conhecida como a “Capital do Porco Alentejano”\, a vila de Ourique acolhe este certame que celebra a gastronomia\, a produção pecuária e a identidade rural do Alentejo. \nARTIGO: \nhttps://sapo.pt/artigo/ourique-18-feira-do-porco-alentejano-ja-tem-data-marcada-para-marco-697ca45bf7f65d9e7361501a
URL:https://terrinha.pt/evento/117/
LOCATION:Ourique\, Município de Ourique\, Ourique\, Beja\, Portugal
CATEGORIES:Beja
ATTACH;FMTTYPE=image/png:https://terrinha.pt/wp-content/uploads/2026/02/imgLoader.png
END:VEVENT
END:VCALENDAR